BEGIN:VCALENDAR
VERSION:2.0
PRODID: -//CMS 5.0 //NONSGML //DE
BEGIN:VEVENT
SUMMARY:NAK-Singles Norddeutschland 
DESCRIPTION:\n\nhttps://bargteheide.nak-nordost.de/db/297285
UID:297285@bargteheide.nak-nordost.de
LOCATION:
CATEGORIES:Kirchenbezirk Hamburg-Nord (Alle Gemeinden),Gemeinschaft
X-ORGANIZER:
STATUS:CONFIRMED
CLASS:PUBLIC
DTSTART:20230311T143000Z
DTEND:20230311T180000Z
DTSTAMP:20260422T165724Z
CREATED:20231203T183511Z
LAST-MODIFIED:20231203T183511Z
BEGIN:VALARM
UID:560F1CEA-3E6C-11F1-A528-561169372A87
TRIGGER:-PT60M
ACTION:DISPLAY
DESCRIPTION:SUMMARY:NAK-Singles Norddeutschland 
END:VALARM
END:VEVENT
END:VCALENDAR
